BEGIN:VCALENDAR
VERSION:2.0
PRODID:-// - ECPv6.15.20//NONSGML v1.0//EN
CALSCALE:GREGORIAN
METHOD:PUBLISH
X-ORIGINAL-URL:https://reserveatpattersoncreek.com
X-WR-CALDESC:Events for 
REFRESH-INTERVAL;VALUE=DURATION:PT1H
X-Robots-Tag:noindex
X-PUBLISHED-TTL:PT1H
BEGIN:VTIMEZONE
TZID:America/Denver
BEGIN:DAYLIGHT
TZOFFSETFROM:-0700
TZOFFSETTO:-0600
TZNAME:MDT
DTSTART:20220313T090000
END:DAYLIGHT
BEGIN:STANDARD
TZOFFSETFROM:-0600
TZOFFSETTO:-0700
TZNAME:MST
DTSTART:20221106T080000
END:STANDARD
BEGIN:DAYLIGHT
TZOFFSETFROM:-0700
TZOFFSETTO:-0600
TZNAME:MDT
DTSTART:20230312T090000
END:DAYLIGHT
BEGIN:STANDARD
TZOFFSETFROM:-0600
TZOFFSETTO:-0700
TZNAME:MST
DTSTART:20231105T080000
END:STANDARD
BEGIN:DAYLIGHT
TZOFFSETFROM:-0700
TZOFFSETTO:-0600
TZNAME:MDT
DTSTART:20240310T090000
END:DAYLIGHT
BEGIN:STANDARD
TZOFFSETFROM:-0600
TZOFFSETTO:-0700
TZNAME:MST
DTSTART:20241103T080000
END:STANDARD
BEGIN:DAYLIGHT
TZOFFSETFROM:-0700
TZOFFSETTO:-0600
TZNAME:MDT
DTSTART:20250309T090000
END:DAYLIGHT
BEGIN:STANDARD
TZOFFSETFROM:-0600
TZOFFSETTO:-0700
TZNAME:MST
DTSTART:20251102T080000
END:STANDARD
END:VTIMEZONE
BEGIN:VEVENT
DTSTART;TZID=America/Denver:20240602T140000
DTEND;TZID=America/Denver:20240602T160000
DTSTAMP:20260423T104337
CREATED:20240407T195715Z
LAST-MODIFIED:20240407T195715Z
UID:278-1717336800-1717344000@reserveatpattersoncreek.com
SUMMARY:Neighborhood Party - time TBD
DESCRIPTION:Neighborhood party
URL:https://reserveatpattersoncreek.com/event/neighborhood-party-time-tbd/
END:VEVENT
BEGIN:VEVENT
DTSTART;TZID=America/Denver:20240515T193000
DTEND;TZID=America/Denver:20240515T200000
DTSTAMP:20260423T104337
CREATED:20240407T185859Z
LAST-MODIFIED:20240515T193633Z
UID:266-1715801400-1715803200@reserveatpattersoncreek.com
SUMMARY:2024-2025 Neighborhood Meeting
DESCRIPTION:Chance for the neighborhood to connect via Zoom to discuss neighborhood issues\, including relevant votes.
URL:https://reserveatpattersoncreek.com/event/2024-2025-neighborhood-meeting/
END:VEVENT
BEGIN:VEVENT
DTSTART;TZID=America/Denver:20240515T170000
DTEND;TZID=America/Denver:20240515T170000
DTSTAMP:20260423T104337
CREATED:20240407T190354Z
LAST-MODIFIED:20240407T190511Z
UID:271-1715792400-1715792400@reserveatpattersoncreek.com
SUMMARY:HOA dues deadline
DESCRIPTION:QR code for Zelle payment
URL:https://reserveatpattersoncreek.com/event/hoa-dues-deadline/
END:VEVENT
BEGIN:VEVENT
DTSTART;VALUE=DATE:20240505
DTEND;VALUE=DATE:20240516
DTSTAMP:20260423T104337
CREATED:20240407T190057Z
LAST-MODIFIED:20240407T190057Z
UID:269-1714867200-1715817599@reserveatpattersoncreek.com
SUMMARY:HOA Voting
DESCRIPTION:New board members\nHouse rental restrictions
URL:https://reserveatpattersoncreek.com/event/hoa-voting/
END:VEVENT
BEGIN:VEVENT
DTSTART;TZID=America/Denver:20230523T190000
DTEND;TZID=America/Denver:20230523T203000
DTSTAMP:20260423T104337
CREATED:20230430T223148Z
LAST-MODIFIED:20230430T223148Z
UID:248-1684868400-1684873800@reserveatpattersoncreek.com
SUMMARY:May HOA Board Meeting
DESCRIPTION:Agenda: \n\nWelcome David Kim\nReview homeowner vote\nRationalize board roles\nFinancial review\nSet next board meeting
URL:https://reserveatpattersoncreek.com/event/may-hoa-board-meeting/
END:VEVENT
BEGIN:VEVENT
DTSTART;TZID=America/Denver:20230322T190000
DTEND;TZID=America/Denver:20230322T200000
DTSTAMP:20260423T104337
CREATED:20230306T105208Z
LAST-MODIFIED:20230306T025726Z
UID:120-1679511600-1679515200@reserveatpattersoncreek.com
SUMMARY:Annual Homeowner's Meeting
DESCRIPTION:
URL:https://reserveatpattersoncreek.com/event/annual-homeowners-meeting/
END:VEVENT
BEGIN:VEVENT
DTSTART;TZID=America/Denver:20230307T200000
DTEND;TZID=America/Denver:20230307T210000
DTSTAMP:20260423T104337
CREATED:20230306T104938Z
LAST-MODIFIED:20230306T141553Z
UID:114-1678219200-1678222800@reserveatpattersoncreek.com
SUMMARY:March board meeting
DESCRIPTION:Agenda\n\nFence repair approach and cost\nProposed FY24 dues\nAnnual meeting agenda\nUpdate on Bylaws and CCR updates\nInclude neighborhood address book on webpage?\n\nOption to opt-out
URL:https://reserveatpattersoncreek.com/event/march-board-meeting/
LOCATION:Sanjay Tiku’s House\, 5850 245th Place NE\, Redmond\, WA\, 98053
END:VEVENT
END:VCALENDAR